BEGIN:VCALENDAR
VERSION:2.0
PRODID:icalendar-ruby
CALSCALE:GREGORIAN
BEGIN:VTIMEZONE
TZID:Europe/Stockholm
BEGIN:DAYLIGHT
DTSTART:20260329T030000
TZOFFSETFROM:+0100
TZOFFSETTO:+0200
RRULE:FREQ=YEARLY;BYDAY=-1SU;BYMONTH=3
TZNAME:CEST
END:DAYLIGHT
BEGIN:STANDARD
DTSTART:20261025T020000
TZOFFSETFROM:+0200
TZOFFSETTO:+0100
RRULE:FREQ=YEARLY;BYDAY=-1SU;BYMONTH=10
TZNAME:CET
END:STANDARD
END:VTIMEZONE
BEGIN:VEVENT
DTSTAMP:20260421T180508Z
UID:4e62b507-546d-5fad-9538-f281291c5d9f
DTSTART;TZID=Europe/Stockholm:20260522T090000
DTEND;TZID=Europe/Stockholm:20260522T143000
DESCRIPTION:Mötet sker digitalt i teams. Möteslänken skickas via Outlook
  från emma.ejermark@skr.se några dagar innan mötet
LOCATION:Digitalt\, 11526 Stockholm
SEQUENCE:1718250
SUMMARY:RUS-nätverket 22 maj
END:VEVENT
END:VCALENDAR

